BEGIN:VCALENDAR
VERSION:2.0
PRODID:-//Pine Creek Township - ECPv6.15.20//NONSGML v1.0//EN
CALSCALE:GREGORIAN
METHOD:PUBLISH
X-ORIGINAL-URL:https://pinecreektownship.com
X-WR-CALDESC:Events for Pine Creek Township
REFRESH-INTERVAL;VALUE=DURATION:PT1H
X-Robots-Tag:noindex
X-PUBLISHED-TTL:PT1H
BEGIN:VTIMEZONE
TZID:America/New_York
BEGIN:DAYLIGHT
TZOFFSETFROM:-0500
TZOFFSETTO:-0400
TZNAME:EDT
DTSTART:20230312T070000
END:DAYLIGHT
BEGIN:STANDARD
TZOFFSETFROM:-0400
TZOFFSETTO:-0500
TZNAME:EST
DTSTART:20231105T060000
END:STANDARD
BEGIN:DAYLIGHT
TZOFFSETFROM:-0500
TZOFFSETTO:-0400
TZNAME:EDT
DTSTART:20240310T070000
END:DAYLIGHT
BEGIN:STANDARD
TZOFFSETFROM:-0400
TZOFFSETTO:-0500
TZNAME:EST
DTSTART:20241103T060000
END:STANDARD
BEGIN:DAYLIGHT
TZOFFSETFROM:-0500
TZOFFSETTO:-0400
TZNAME:EDT
DTSTART:20250309T070000
END:DAYLIGHT
BEGIN:STANDARD
TZOFFSETFROM:-0400
TZOFFSETTO:-0500
TZNAME:EST
DTSTART:20251102T060000
END:STANDARD
END:VTIMEZONE
BEGIN:VEVENT
DTSTART;TZID=America/New_York:20240403T190000
DTEND;TZID=America/New_York:20240403T200000
DTSTAMP:20260422T140147
CREATED:20240306T233317Z
LAST-MODIFIED:20240306T233317Z
UID:1546-1712170800-1712174400@pinecreektownship.com
SUMMARY:Township Monthly Meeting
DESCRIPTION:
URL:https://pinecreektownship.com/event/township-monthly-meeting-2/
LOCATION:Pine Creek Township Municipal Building\, 31 Municipal Drive\, Avis\, 17721\, United States
CATEGORIES:Township Monthly Meeting
END:VEVENT
BEGIN:VEVENT
DTSTART;TZID=America/New_York:20240314T190000
DTEND;TZID=America/New_York:20240314T200000
DTSTAMP:20260422T140147
CREATED:20240306T232224Z
LAST-MODIFIED:20240306T232435Z
UID:1541-1710442800-1710446400@pinecreektownship.com
SUMMARY:Township Monthly Meeting
DESCRIPTION:
URL:https://pinecreektownship.com/event/township-monthly-meeting/
LOCATION:Pine Creek Township Municipal Building\, 31 Municipal Drive\, Avis\, 17721\, United States
CATEGORIES:Township Monthly Meeting
END:VEVENT
END:VCALENDAR